BEGIN:VCALENDAR
PRODID:-//eluceo/ical//2.0/EN
VERSION:2.0
CALSCALE:GREGORIAN
BEGIN:VEVENT
UID:dfdffb707702e5f84013b97f623abdc2
DTSTAMP:20260422T090229Z
SUMMARY:Pavadinimas 8
DESCRIPTION:e
DTSTART;TZID=Europe/Vilnius:20211007T070000
DTEND;TZID=Europe/Vilnius:20211015T180000
LOCATION:Rajonas
END:VEVENT
END:VCALENDAR
